BEGIN:VCALENDAR
VERSION:2.0
PRODID:-//Michigan Humane - ECPv6.5.1.6//NONSGML v1.0//EN
CALSCALE:GREGORIAN
METHOD:PUBLISH
X-WR-CALNAME:Michigan Humane
X-ORIGINAL-URL:https://www.michiganhumane.org
X-WR-CALDESC:Events for Michigan Humane
REFRESH-INTERVAL;VALUE=DURATION:PT1H
X-Robots-Tag:noindex
X-PUBLISHED-TTL:PT1H
BEGIN:VTIMEZONE
TZID:America/Halifax
BEGIN:DAYLIGHT
TZOFFSETFROM:-0400
TZOFFSETTO:-0300
TZNAME:ADT
DTSTART:20220313T060000
END:DAYLIGHT
BEGIN:STANDARD
TZOFFSETFROM:-0300
TZOFFSETTO:-0400
TZNAME:AST
DTSTART:20221106T050000
END:STANDARD
END:VTIMEZONE
BEGIN:VEVENT
DTSTART;TZID=America/Halifax:20220829T000000
DTEND;TZID=America/Halifax:20220905T130500
DTSTAMP:20260421T082519
CREATED:20220819T194816Z
LAST-MODIFIED:20220829T133753Z
UID:37500-1661731200-1662383100@www.michiganhumane.org
SUMMARY:Michigan Humane’s Dodge Demon Auction
DESCRIPTION:Don’t miss your one and only chance to bring home this one-of-a-kind Dodge Demon! \nThe winning bidder will take home a 2018 Dodge Challenger SRT Demon with all benefits going toward Michigan Humane’s life-changing programs and services. Hosted on Bring a Trailer\, your bid will support Building a More Humane Community for people and pets. Presented by Michigan Humane\, featured at M1 Concourse on August 19th for the Woodward Dream Show\, in partnership with Finishing Touch Auto Spa and Bring a Trailer. \nWith signatures under the hood from Top Designers at Dodge\, factory mileage\, professional ceramic coating\, and full-body detail\, you’ll dominate the streets in your life-changing Demon\, delivering a thrilling 2.3s 0-60mph \nTo place your bid on Bring a Trailer\, click here. 
URL:https://www.michiganhumane.org/event/michigan-humanes-dodge-demon-auction/
ATTACH;FMTTYPE=image/jpeg:https://www.michiganhumane.org/wp-content/uploads/2022/08/Dodge-Demon-Graphic-1.jpg
END:VEVENT
END:VCALENDAR