BEGIN:VCALENDAR
VERSION:2.0
PRODID:-//Michigan Humane - ECPv6.5.1.6//NONSGML v1.0//EN
CALSCALE:GREGORIAN
METHOD:PUBLISH
X-WR-CALNAME:Michigan Humane
X-ORIGINAL-URL:https://www.michiganhumane.org
X-WR-CALDESC:Events for Michigan Humane
REFRESH-INTERVAL;VALUE=DURATION:PT1H
X-Robots-Tag:noindex
X-PUBLISHED-TTL:PT1H
BEGIN:VTIMEZONE
TZID:America/Halifax
BEGIN:DAYLIGHT
TZOFFSETFROM:-0400
TZOFFSETTO:-0300
TZNAME:ADT
DTSTART:20220313T060000
END:DAYLIGHT
BEGIN:STANDARD
TZOFFSETFROM:-0300
TZOFFSETTO:-0400
TZNAME:AST
DTSTART:20221106T050000
END:STANDARD
END:VTIMEZONE
BEGIN:VEVENT
DTSTART;TZID=America/Halifax:20220927T180000
DTEND;TZID=America/Halifax:20220927T220000
DTSTAMP:20260421T065335
CREATED:20220819T201301Z
LAST-MODIFIED:20220819T201301Z
UID:37510-1664301600-1664316000@www.michiganhumane.org
SUMMARY:Bark in the Park
DESCRIPTION:Ready to go to the ballpark with your favorite pup? Because Bark in the Park is back again! Join us and the Detroit Tigers on September 27 @ 6:00 p.m. – 10:00 p.m.  \nTo learn more about the event and purchase your tickets\, visit https://www.mlb.com/tigers/tickets/specials/events/social/bark.
URL:https://www.michiganhumane.org/event/bark-in-the-park-2/
LOCATION:Comerican Park\, 2100 Woodward Ave\, Detroit\, Michigan\, 48201
ATTACH;FMTTYPE=image/jpeg:https://www.michiganhumane.org/wp-content/uploads/2022/08/IMG_2354-scaled.jpg
END:VEVENT
END:VCALENDAR