BEGIN:VCALENDAR
VERSION:2.0
PRODID:-//Michigan Humane - ECPv6.5.1.6//NONSGML v1.0//EN
CALSCALE:GREGORIAN
METHOD:PUBLISH
X-ORIGINAL-URL:https://www.michiganhumane.org
X-WR-CALDESC:Events for Michigan Humane
REFRESH-INTERVAL;VALUE=DURATION:PT1H
X-Robots-Tag:noindex
X-PUBLISHED-TTL:PT1H
BEGIN:VTIMEZONE
TZID:America/Halifax
BEGIN:DAYLIGHT
TZOFFSETFROM:-0400
TZOFFSETTO:-0300
TZNAME:ADT
DTSTART:20230312T060000
END:DAYLIGHT
BEGIN:STANDARD
TZOFFSETFROM:-0300
TZOFFSETTO:-0400
TZNAME:AST
DTSTART:20231105T050000
END:STANDARD
END:VTIMEZONE
BEGIN:VEVENT
DTSTART;TZID=America/Halifax:20230530T184000
DTEND;TZID=America/Halifax:20230530T211000
DTSTAMP:20260420T195948
CREATED:20230113T214751Z
LAST-MODIFIED:20230524T194221Z
UID:40158-1685472000-1685481000@www.michiganhumane.org
SUMMARY:Bark in the Park
DESCRIPTION:Ready to go to the ballpark with your favorite pup? Because Bark in the Park is back! Join us and the Detroit Tigers on May 30 @ 6:40 p.m. \nTo learn more about the event\, visit https://www.mlb.com/tigers.
URL:https://www.michiganhumane.org/event/bark-in-the-park-3/
LOCATION:Comerica Park\, 2100 Woodward Ave\, Detroit\, Michigan\, 48201
ATTACH;FMTTYPE=image/jpeg:https://www.michiganhumane.org/wp-content/uploads/2022/08/IMG_2354-scaled.jpg
END:VEVENT
END:VCALENDAR