BEGIN:VCALENDAR
VERSION:2.0
PRODID:-//Michigan Humane - ECPv6.5.1.6//NONSGML v1.0//EN
CALSCALE:GREGORIAN
METHOD:PUBLISH
X-ORIGINAL-URL:https://www.michiganhumane.org
X-WR-CALDESC:Events for Michigan Humane
REFRESH-INTERVAL;VALUE=DURATION:PT1H
X-Robots-Tag:noindex
X-PUBLISHED-TTL:PT1H
BEGIN:VTIMEZONE
TZID:America/Halifax
BEGIN:DAYLIGHT
TZOFFSETFROM:-0400
TZOFFSETTO:-0300
TZNAME:ADT
DTSTART:20230312T060000
END:DAYLIGHT
BEGIN:STANDARD
TZOFFSETFROM:-0300
TZOFFSETTO:-0400
TZNAME:AST
DTSTART:20231105T050000
END:STANDARD
END:VTIMEZONE
BEGIN:VEVENT
DTSTART;TZID=America/Halifax:20230624T140000
DTEND;TZID=America/Halifax:20230624T160000
DTSTAMP:20260420T195946
CREATED:20230616T170742Z
LAST-MODIFIED:20230616T172833Z
UID:42281-1687615200-1687622400@www.michiganhumane.org
SUMMARY:Dancin’ With The Dogs Presented by Strategic Staffing Solutions
DESCRIPTION:Where’s the paw-ty at? Grand Circus Dog Park\, of course! Join us on Saturday\, June 24 from 2-4 pm for the Grand Circus Park Dancin’ With The Dogs event. Guaranteed to be a DOGgone good time\, furry friends should come dressed in their fanciest dresses\, bow ties & tails to partake in our dog prom. Each pup will have the chance to walk our red carpet and compete to win Prom Queen & King\, Princess & Prince or Duchess & Duke. There will also be a DJ onsite providing music and entertainment throughout the entire event. \nAll of this year’s Grand Circus Dog Park events are presented by Strategic Staffing Solutions and supported in part by Michigan Humane and Premier Pet Supply who will be on site with giveaways\, treats and prizes for our contest winners. \nOther dog park events coming up include: \nJuly 22 – Bones and Cones \nAugust 26 – My Dog’s Got Talent \nSeptember 23 – Tail Gate Pawty \nOctober 28 – Howl-o-ween
URL:https://www.michiganhumane.org/event/dancin-with-the-dogs-presented-by-strategic-staffing-solutions/
ATTACH;FMTTYPE=image/png:https://www.michiganhumane.org/wp-content/uploads/2023/06/Screenshot-3.png
END:VEVENT
END:VCALENDAR