BEGIN:VCALENDAR
VERSION:2.0
PRODID:-//Michigan Humane - ECPv6.5.1.6//NONSGML v1.0//EN
CALSCALE:GREGORIAN
METHOD:PUBLISH
X-WR-CALNAME:Michigan Humane
X-ORIGINAL-URL:https://www.michiganhumane.org
X-WR-CALDESC:Events for Michigan Humane
REFRESH-INTERVAL;VALUE=DURATION:PT1H
X-Robots-Tag:noindex
X-PUBLISHED-TTL:PT1H
BEGIN:VTIMEZONE
TZID:America/Halifax
BEGIN:DAYLIGHT
TZOFFSETFROM:-0400
TZOFFSETTO:-0300
TZNAME:ADT
DTSTART:20240310T060000
END:DAYLIGHT
BEGIN:STANDARD
TZOFFSETFROM:-0300
TZOFFSETTO:-0400
TZNAME:AST
DTSTART:20241103T050000
END:STANDARD
END:VTIMEZONE
BEGIN:VEVENT
DTSTART;TZID=America/Halifax:20240514T183000
DTEND;TZID=America/Halifax:20240514T213000
DTSTAMP:20260420T015045
CREATED:20240401T181518Z
LAST-MODIFIED:20240401T215411Z
UID:45622-1715711400-1715722200@www.michiganhumane.org
SUMMARY:Bark in the Park - May 14
DESCRIPTION:Bring your dog to Comerica Park and enjoy a game with your furry friend! Special ticket package includes game ticket\, exclusive Bark in the Park item\, and donation to Michigan Humane. \nBuy tickets here! \n\nOne ticket is needed for the dog and one ticket is needed for the person/fan. Maximum of one dog per paid adult ticket. NO EXCEPTIONS. All dogs must wear an identification tag to the game and be accompanied by someone 18 years of age or older.\nAccess to the Bark in the Park party area which includes water stations\, doggie “restrooms” and other amenities\n\nDog tickets are EXTREMELY limited. SPECIAL “BARK IN THE PARK” EVENT TICKET IS REQUIRED TO PARTICIPATE. \n‘Bark in the Park’ packages can only be purchased online. No day-of-game sales. No exceptions. All participants must provide a copy of all up-to-date dog vaccinations upon check in. Required for entry: DDHPP & Rabies Vaccines. Recommended: Leptospirosis\, Bordetella\, and Canine Influenza vaccinations. Failure to provide vaccination records may result in non-entry to the ballpark.
URL:https://www.michiganhumane.org/event/bark-in-the-park-may-14/
LOCATION:Comerica Park\, 2100 Woodward Ave\, Detroit\, Michigan\, 48201
ATTACH;FMTTYPE=image/jpeg:https://www.michiganhumane.org/wp-content/uploads/2024/04/bark.jpg
END:VEVENT
END:VCALENDAR