BEGIN:VCALENDAR
VERSION:2.0
PRODID:-//Michigan Humane - ECPv6.5.1.6//NONSGML v1.0//EN
CALSCALE:GREGORIAN
METHOD:PUBLISH
X-ORIGINAL-URL:https://www.michiganhumane.org
X-WR-CALDESC:Events for Michigan Humane
REFRESH-INTERVAL;VALUE=DURATION:PT1H
X-Robots-Tag:noindex
X-PUBLISHED-TTL:PT1H
BEGIN:VTIMEZONE
TZID:America/Halifax
BEGIN:DAYLIGHT
TZOFFSETFROM:-0400
TZOFFSETTO:-0300
TZNAME:ADT
DTSTART:20240310T060000
END:DAYLIGHT
BEGIN:STANDARD
TZOFFSETFROM:-0300
TZOFFSETTO:-0400
TZNAME:AST
DTSTART:20241103T050000
END:STANDARD
END:VTIMEZONE
BEGIN:VEVENT
DTSTART;TZID=America/Halifax:20240518T080000
DTEND;TZID=America/Halifax:20240518T120000
DTSTAMP:20260420T015116
CREATED:20240401T183526Z
LAST-MODIFIED:20240401T183526Z
UID:45628-1716019200-1716033600@www.michiganhumane.org
SUMMARY:36th Annual Mutt March
DESCRIPTION:Experience the stunning Edsel and Eleanor Ford House grounds with your pups\, family\, friends and a community of animal lovers. We invite you to stroll the scenic path and participate in dog-focused activities while you enjoy the sun\, food\, and of course the dog costumes!   \nSaturday\, May 18th\, 2024\nEdsel and Eleanor Ford House\n8:00 AM – 12:00 PM \nThis year’s Mutt March will feature:  \n\nAdoptable Dog Meet-n-Greet  \nDoggie Costume Contest \nPhoto opp in partnership with Fleur Detroit \nFood Trucks  \nSpecialty Brunch Cocktails \n\nThere are multiple ways to participate! Participating is easy and registration is free!   \n\nBecome a fundraiser – Click here to learn more or start your fundraising page. \nStart a fundraising team – Click here to learn more or start your fundraising page. < this can be edited to fit with the template>  \nDonate to a fundraising friend – Click here to find a fundraising page.  \nHumane Hero Private Cabana – Interested in enhancing your Mutt March experience? Become a Humane Hero to book a cabana for a group to relax in comfort and style at Mutt March.  Contact Julie Wekenmann at jwekenmann@michiganhumane.org now for more information!  \nSponsorship – Looking for alternative ways to get involved? Customized Sponsorship opportunities are available now! Contact Deb Scola at dscola@michiganhumane.org for more information. \n\n 
URL:https://www.michiganhumane.org/event/36th-annual-mutt-march/
LOCATION:Edsel and Eleanor Ford House\, 1100 Lake Shore Rd\, Grosse Point Shores\, MI\, 48236\, United States
CATEGORIES:Mutt March
ATTACH;FMTTYPE=image/png:https://www.michiganhumane.org/wp-content/uploads/2024/03/Mutt-March-STD.png
END:VEVENT
END:VCALENDAR