BEGIN:VCALENDAR
VERSION:2.0
PRODID:-//Michigan Humane - ECPv6.5.1.6//NONSGML v1.0//EN
CALSCALE:GREGORIAN
METHOD:PUBLISH
X-ORIGINAL-URL:https://www.michiganhumane.org
X-WR-CALDESC:Events for Michigan Humane
REFRESH-INTERVAL;VALUE=DURATION:PT1H
X-Robots-Tag:noindex
X-PUBLISHED-TTL:PT1H
BEGIN:VTIMEZONE
TZID:America/Halifax
BEGIN:DAYLIGHT
TZOFFSETFROM:-0400
TZOFFSETTO:-0300
TZNAME:ADT
DTSTART:20230312T060000
END:DAYLIGHT
BEGIN:STANDARD
TZOFFSETFROM:-0300
TZOFFSETTO:-0400
TZNAME:AST
DTSTART:20231105T050000
END:STANDARD
END:VTIMEZONE
BEGIN:VEVENT
DTSTART;TZID=America/Halifax:20230520T100000
DTEND;TZID=America/Halifax:20230520T130000
DTSTAMP:20260421T024114
CREATED:20230502T205546Z
LAST-MODIFIED:20230504T195514Z
UID:41061-1684576800-1684587600@www.michiganhumane.org
SUMMARY:Meet Your Best Friend at the Law Firm
DESCRIPTION:Meet Your Best Friend at the Law Firm returns for its third year thanks to our official adoption partner\, Mike Morse Law Firm. Adoptable pets from rescue centers throughout the state include Michigan Humane\, Midwest Small Breed\, No Dogs Left Behind\, Good Karma Puppy Rescue\, Friends for Animals of Metro Detroit\, Bottle Babies Rescue\, DACC\, Boxer Haven Rescue\, Saving Cats & Kittens and Michigan Anti Cruelty Society. (For safety reasons\, potential adopters are asked to leave their current pets at home. Adoption fees and policies vary by participating groups.) 
URL:https://www.michiganhumane.org/event/meet-your-best-friend-at-the-law-firm-2023/
LOCATION:Mike Morse Law Firm\, 24901 Northwestern Hwy\, Southfield\, MI\, 48075\, United States
CATEGORIES:Adoption
ATTACH;FMTTYPE=image/jpeg:https://www.michiganhumane.org/wp-content/uploads/2023/05/Facebook-Cover.jpg
END:VEVENT
END:VCALENDAR