BEGIN:VCALENDAR
VERSION:2.0
PRODID:-//Michigan Humane - ECPv6.5.1.6//NONSGML v1.0//EN
CALSCALE:GREGORIAN
METHOD:PUBLISH
X-WR-CALNAME:Michigan Humane
X-ORIGINAL-URL:https://www.michiganhumane.org
X-WR-CALDESC:Events for Michigan Humane
REFRESH-INTERVAL;VALUE=DURATION:PT1H
X-Robots-Tag:noindex
X-PUBLISHED-TTL:PT1H
BEGIN:VTIMEZONE
TZID:America/Halifax
BEGIN:DAYLIGHT
TZOFFSETFROM:-0400
TZOFFSETTO:-0300
TZNAME:ADT
DTSTART:20240310T060000
END:DAYLIGHT
BEGIN:STANDARD
TZOFFSETFROM:-0300
TZOFFSETTO:-0400
TZNAME:AST
DTSTART:20241103T050000
END:STANDARD
END:VTIMEZONE
BEGIN:VEVENT
DTSTART;TZID=America/Halifax:20240914T100000
DTEND;TZID=America/Halifax:20240914T140000
DTSTAMP:20260419T212736
CREATED:20240816T173821Z
LAST-MODIFIED:20240816T173821Z
UID:46418-1726308000-1726322400@www.michiganhumane.org
SUMMARY:Meet Your Best Friend at the Shelter 2024
DESCRIPTION:It’s time to meet your best friend…this time\, at the shelter! In partnership with the Mike Morse Law Firm\, Michigan Humane and several other rescue organizations will have many animals available for adoption at our Berman Center for Animal Care in Westland. We hope to see you there!
URL:https://www.michiganhumane.org/event/meet-your-best-friend-at-the-shelter-2024/
LOCATION:MI
CATEGORIES:Adoption
ATTACH;FMTTYPE=image/jpeg:https://www.michiganhumane.org/wp-content/uploads/2023/10/MTM_9560.MP4.07_56_49_25.Still001.jpg
END:VEVENT
END:VCALENDAR