BEGIN:VCALENDAR
VERSION:2.0
PRODID:-//Michigan Humane - ECPv6.5.1.6//NONSGML v1.0//EN
CALSCALE:GREGORIAN
METHOD:PUBLISH
X-ORIGINAL-URL:https://www.michiganhumane.org
X-WR-CALDESC:Events for Michigan Humane
REFRESH-INTERVAL;VALUE=DURATION:PT1H
X-Robots-Tag:noindex
X-PUBLISHED-TTL:PT1H
BEGIN:VTIMEZONE
TZID:America/Halifax
BEGIN:DAYLIGHT
TZOFFSETFROM:-0400
TZOFFSETTO:-0300
TZNAME:ADT
DTSTART:20220313T060000
END:DAYLIGHT
BEGIN:STANDARD
TZOFFSETFROM:-0300
TZOFFSETTO:-0400
TZNAME:AST
DTSTART:20221106T050000
END:STANDARD
END:VTIMEZONE
BEGIN:VEVENT
DTSTART;TZID=America/Halifax:20220910T100000
DTEND;TZID=America/Halifax:20220910T130000
DTSTAMP:20260421T094918
CREATED:20220819T201818Z
LAST-MODIFIED:20230606T205118Z
UID:37513-1662804000-1662814800@www.michiganhumane.org
SUMMARY:Meet Your Best Friend at the Law Firm
DESCRIPTION:Meet Your Best Friend at the Law Firm is back! Join us and our friends\, at the Mike Morse Law Firm\, on Saturday\, September 10\, from 10 a.m. – 1 p.m. and meet your new best friend. Over 150 animals will be available for adoption from Michigan Humane and local animal shelters and rescues around Michigan. There will also be several Pet Partners attending the event; including Fetch by the Dodo Pet Insurance\, Michigan State Police Pet Preparedness Program\, Premier Pet Supply\, Swaggles and Team Suzy. Save the date and don’t miss out on your chance to meet your new best friend. The animal shelters and rescues attending the Meet Your Best Friend at the Law Firm event are: \n\nNo Dog Left Behind\nMidwest Small Breed\nGood Karma Puppy Rescue\nCanine Companions Care + Rescue\nBoxer Haven Rescue\nFriends for Animals\nSaving Cats & Kittens\nWillow Haven Animal Sanctuary\nDACC
URL:https://www.michiganhumane.org/event/meet-your-best-friend-at-the-law-firm/
LOCATION:Mike Morse Law Firm\, 24901 Northwestern Hwy\, Southfield\, MI\, 48075\, United States
CATEGORIES:Adoption,Live Event
ATTACH;FMTTYPE=image/jpeg:https://www.michiganhumane.org/wp-content/uploads/2022/08/MicrosoftTeams-image-scaled.jpg
END:VEVENT
END:VCALENDAR