BEGIN:VCALENDAR
VERSION:2.0
PRODID:-//Michigan Humane - ECPv6.5.1.6//NONSGML v1.0//EN
CALSCALE:GREGORIAN
METHOD:PUBLISH
X-WR-CALNAME:Michigan Humane
X-ORIGINAL-URL:https://www.michiganhumane.org
X-WR-CALDESC:Events for Michigan Humane
REFRESH-INTERVAL;VALUE=DURATION:PT1H
X-Robots-Tag:noindex
X-PUBLISHED-TTL:PT1H
BEGIN:VTIMEZONE
TZID:America/Halifax
BEGIN:DAYLIGHT
TZOFFSETFROM:-0400
TZOFFSETTO:-0300
TZNAME:ADT
DTSTART:20250309T060000
END:DAYLIGHT
BEGIN:STANDARD
TZOFFSETFROM:-0300
TZOFFSETTO:-0400
TZNAME:AST
DTSTART:20251102T050000
END:STANDARD
END:VTIMEZONE
BEGIN:VEVENT
DTSTART;TZID=America/Halifax:20250517T080000
DTEND;TZID=America/Halifax:20250517T120000
DTSTAMP:20260419T145423
CREATED:20250310T141545Z
LAST-MODIFIED:20250326T173539Z
UID:47299-1747468800-1747483200@www.michiganhumane.org
SUMMARY:37th Annual Mutt March
DESCRIPTION:Your support contributes to changing more than 6\,000 lives each year through rescue\, rehabilitation\, and rehoming of animals. \nWith up to 1\,000 animals in our care at any time and over 6\,000 adoptions in 2024\, we work tirelessly to create brighter futures for those in need. By signing up for the 37th annual Mutt March\, you’ll be helping us continue this life-saving work! \nWhether you host an online fundraiser\, dedicate a portion of sales from your local business to Michigan Humane\, host a Mutt ‘Mixer’ fundraiser in your neighborhood or make a donation\, we invite you to join us for a fun-filled day at the Edsel and Eleanor Ford House! March the scenic grounds\, dine\, and mingle with our animal-loving community while enjoying time with your WHOLE family – furry friends included! \nJoin us in supporting Michigan Humane’s mission to improve and save lives through compassionate care\, community engagement and advocacy for animals
URL:https://www.michiganhumane.org/event/37th-annual-mutt-march/
LOCATION:Ford House\, 1100 Lake Shore Rd\, Grosse Pointe Shores\, MI\, 48236\, United States
CATEGORIES:Mutt March
ATTACH;FMTTYPE=image/jpeg:https://www.michiganhumane.org/wp-content/uploads/2025/03/MM-Website-Slider.jpg
END:VEVENT
END:VCALENDAR