BEGIN:VCALENDAR
VERSION:2.0
PRODID:-//Michigan Humane - ECPv6.5.1.6//NONSGML v1.0//EN
CALSCALE:GREGORIAN
METHOD:PUBLISH
X-ORIGINAL-URL:https://www.michiganhumane.org
X-WR-CALDESC:Events for Michigan Humane
REFRESH-INTERVAL;VALUE=DURATION:PT1H
X-Robots-Tag:noindex
X-PUBLISHED-TTL:PT1H
BEGIN:VTIMEZONE
TZID:America/Halifax
BEGIN:DAYLIGHT
TZOFFSETFROM:-0400
TZOFFSETTO:-0300
TZNAME:ADT
DTSTART:20240310T060000
END:DAYLIGHT
BEGIN:STANDARD
TZOFFSETFROM:-0300
TZOFFSETTO:-0400
TZNAME:AST
DTSTART:20241103T050000
END:STANDARD
END:VTIMEZONE
BEGIN:VEVENT
DTSTART;TZID=America/Halifax:20240810T080000
DTEND;TZID=America/Halifax:20240810T170000
DTSTAMP:20260420T013708
CREATED:20240626T153858Z
LAST-MODIFIED:20240724T142028Z
UID:45964-1723276800-1723309200@www.michiganhumane.org
SUMMARY:One Health: Marygrove Clinic
DESCRIPTION:Low-cost vaccination clinic
URL:https://www.michiganhumane.org/event/one-health-marygrove-clinic/
LOCATION:Marygrove Conservancy\, 8425 McNicholas Rd\, Detroit\, MI\, 48221\, United States
CATEGORIES:OneHealth
ATTACH;FMTTYPE=image/png:https://www.michiganhumane.org/wp-content/uploads/2024/07/1.png
END:VEVENT
BEGIN:VEVENT
DTSTART;TZID=America/Halifax:20240816T103000
DTEND;TZID=America/Halifax:20240816T153000
DTSTAMP:20260420T013708
CREATED:20240626T155039Z
LAST-MODIFIED:20240724T142137Z
UID:45966-1723804200-1723822200@www.michiganhumane.org
SUMMARY:One Health: Detroit Cristo Rey Popup Clinic
DESCRIPTION:Low-cost vaccination clinic for southwest Detroit residents only.
URL:https://www.michiganhumane.org/event/one-health-detroit-cristo-rey-popup-clinic/
LOCATION:Detroit Cristo Rey\, 5679 Vernor Hwy\, Detroit\, MI\, 48209
CATEGORIES:OneHealth
ATTACH;FMTTYPE=image/jpeg:https://www.michiganhumane.org/wp-content/uploads/2024/07/Cristo-Rey-Handout-scaled.jpg
END:VEVENT
END:VCALENDAR