BEGIN:VCALENDAR
VERSION:2.0
PRODID:-//Michigan Humane - ECPv6.5.1.6//NONSGML v1.0//EN
CALSCALE:GREGORIAN
METHOD:PUBLISH
X-WR-CALNAME:Michigan Humane
X-ORIGINAL-URL:https://www.michiganhumane.org
X-WR-CALDESC:Events for Michigan Humane
REFRESH-INTERVAL;VALUE=DURATION:PT1H
X-Robots-Tag:noindex
X-PUBLISHED-TTL:PT1H
BEGIN:VTIMEZONE
TZID:America/Halifax
BEGIN:DAYLIGHT
TZOFFSETFROM:-0400
TZOFFSETTO:-0300
TZNAME:ADT
DTSTART:20240310T060000
END:DAYLIGHT
BEGIN:STANDARD
TZOFFSETFROM:-0300
TZOFFSETTO:-0400
TZNAME:AST
DTSTART:20241103T050000
END:STANDARD
END:VTIMEZONE
BEGIN:VEVENT
DTSTART;TZID=America/Halifax:20240720T090000
DTEND;TZID=America/Halifax:20240720T140000
DTSTAMP:20260420T042518
CREATED:20240626T153651Z
LAST-MODIFIED:20240711T200628Z
UID:45961-1721466000-1721484000@www.michiganhumane.org
SUMMARY:One Health: Scarcyny Park Popup Clinic
DESCRIPTION:Low-cost vaccination clinic for southwest Detroit residents only. \n 
URL:https://www.michiganhumane.org/event/one-health-scarcyny-park-popup-clinic/
LOCATION:Scarcyny Park\, 4600 Merritt St.\, Detroit\, MI\, 48209
CATEGORIES:OneHealth
END:VEVENT
END:VCALENDAR