BEGIN:VCALENDAR
VERSION:2.0
PRODID:-//Michigan Humane - ECPv6.5.1.6//NONSGML v1.0//EN
CALSCALE:GREGORIAN
METHOD:PUBLISH
X-ORIGINAL-URL:https://www.michiganhumane.org
X-WR-CALDESC:Events for Michigan Humane
REFRESH-INTERVAL;VALUE=DURATION:PT1H
X-Robots-Tag:noindex
X-PUBLISHED-TTL:PT1H
BEGIN:VTIMEZONE
TZID:America/Halifax
BEGIN:DAYLIGHT
TZOFFSETFROM:-0400
TZOFFSETTO:-0300
TZNAME:ADT
DTSTART:20230312T060000
END:DAYLIGHT
BEGIN:STANDARD
TZOFFSETFROM:-0300
TZOFFSETTO:-0400
TZNAME:AST
DTSTART:20231105T050000
END:STANDARD
END:VTIMEZONE
BEGIN:VEVENT
DTSTART;TZID=America/Halifax:20230722T140000
DTEND;TZID=America/Halifax:20230722T160000
DTSTAMP:20260420T153041
CREATED:20230616T171236Z
LAST-MODIFIED:20230616T171328Z
UID:42284-1690034400-1690041600@www.michiganhumane.org
SUMMARY:Bones and Cones Presented by Strategic Staffing Solutions
DESCRIPTION:What’s better on a hot July day than a Doggy Ice Cream Social! Join us\, Saturday\, July 22 from 2 – 4 PM to celebrate National Ice Cream Month. The Bones and Cones event at Grand Circus Park will feature frozen treats & ice cream cups for pets as well as their parents\, games & gifts for the dogs\, and a DJ performing live. \nAll of this year’s Grand Circus Dog Park events are presented by Strategic Staffing Solutions and supported in part by Michigan Humane and Premier Pet Supply who will be on site with giveaways\, treats and prizes for our contest winners. \nOther dog park events coming up include: \nAugust 26 – My Dog’s Got Talent \nSeptember 23 – Tail Gate Pawty \nOctober 28 – Howl-o-ween
URL:https://www.michiganhumane.org/event/bones-and-cones-presented-by-strategic-staffing-solutions/
ATTACH;FMTTYPE=image/png:https://www.michiganhumane.org/wp-content/uploads/2023/06/Screenshot-4.png
END:VEVENT
END:VCALENDAR