BEGIN:VCALENDAR
VERSION:2.0
PRODID:-//Michigan Humane - ECPv6.5.1.6//NONSGML v1.0//EN
CALSCALE:GREGORIAN
METHOD:PUBLISH
X-ORIGINAL-URL:https://www.michiganhumane.org
X-WR-CALDESC:Events for Michigan Humane
REFRESH-INTERVAL;VALUE=DURATION:PT1H
X-Robots-Tag:noindex
X-PUBLISHED-TTL:PT1H
BEGIN:VTIMEZONE
TZID:America/Halifax
BEGIN:DAYLIGHT
TZOFFSETFROM:-0400
TZOFFSETTO:-0300
TZNAME:ADT
DTSTART:20230312T060000
END:DAYLIGHT
BEGIN:STANDARD
TZOFFSETFROM:-0300
TZOFFSETTO:-0400
TZNAME:AST
DTSTART:20231105T050000
END:STANDARD
END:VTIMEZONE
BEGIN:VEVENT
DTSTART;TZID=America/Halifax:20230909T100000
DTEND;TZID=America/Halifax:20230909T130000
DTSTAMP:20260420T124151
CREATED:20230830T135514Z
LAST-MODIFIED:20230830T195453Z
UID:42978-1694253600-1694264400@www.michiganhumane.org
SUMMARY:Meet Your Best Friend at the Shelter
DESCRIPTION:We are excited to once again partner with the Mike Morse Law Firm to host Meet Your Best Friend at the Shelter! On Saturday\, September 9th from 10 am-1 pm\, over 150 animals will be available for adoption at our Berman Center for Animal Care in Westland. Alongside us will be 4 other rescue organizations with adoptable animals looking for their forever homes: No Dogs Left Behind\, Good Karma Puppy Rescue\, Detroit Animal Care and Control (DACC) and Midwest Small Breed. Get ready to find your new best friend!
URL:https://www.michiganhumane.org/event/meet-your-best-friend-at-the-shelter/
LOCATION:Berman Center for Animal Care\, 900 N Newburgh Rd\, Westland\, MI\, 48185\, United States
CATEGORIES:Adoption
ATTACH;FMTTYPE=image/jpeg:https://www.michiganhumane.org/wp-content/uploads/2023/08/370538170_676852234476199_1279203550210776658_n.jpg
END:VEVENT
BEGIN:VEVENT
DTSTART;TZID=America/Halifax:20230913T184000
DTEND;TZID=America/Halifax:20230913T214000
DTSTAMP:20260420T124151
CREATED:20230113T220437Z
LAST-MODIFIED:20230420T205454Z
UID:40162-1694630400-1694641200@www.michiganhumane.org
SUMMARY:Bark in the Park
DESCRIPTION:Ready to go to the ballpark with your favorite pup? Because Bark in the Park is back! Join us and the Detroit Tigers on September 13 @ 6:40 p.m. \nTo learn more about the event\, visit https://www.mlb.com/tigers.
URL:https://www.michiganhumane.org/event/bark-in-the-park-5/
LOCATION:Comerica Park\, 2100 Woodward Ave\, Detroit\, Michigan\, 48201
ATTACH;FMTTYPE=image/jpeg:https://www.michiganhumane.org/wp-content/uploads/2022/08/IMG_2354-scaled.jpg
END:VEVENT
BEGIN:VEVENT
DTSTART;TZID=America/Halifax:20230923T140000
DTEND;TZID=America/Halifax:20230923T160000
DTSTAMP:20260420T124151
CREATED:20230616T182203Z
LAST-MODIFIED:20230616T182203Z
UID:42292-1695477600-1695484800@www.michiganhumane.org
SUMMARY:TAILgate Pawty Presented by Strategic Staffing Solutions
DESCRIPTION:Which teams are you rooting for this season? Let Detroit know and show off your pet in your favorite team colors or jerseys for prizes and fun at Grand Circus Park on Sep. 23 from 2-4 PM for a “TAILgate Pawty” courtesy of the DDP. The event will feature Sports games for pets and dog parents\, Hot Dogs for Humans\, Bacon Treats for the Dogs\, and a live DJ. \nAll of this year’s Grand Circus Dog Park events are presented by Strategic Staffing Solutions and supported in part by Michigan Humane and Premier Pet Supply who will be on-site with giveaways\, treats\, and prizes for our contest winners. \nOther dog park events coming up include: \nOctober 28 – Howl-o-ween
URL:https://www.michiganhumane.org/event/tailgate-pawty-presented-by-strategic-staffing-solutions/
ATTACH;FMTTYPE=image/png:https://www.michiganhumane.org/wp-content/uploads/2023/06/Screenshot-6.png
END:VEVENT
END:VCALENDAR