BEGIN:VCALENDAR
VERSION:2.0
PRODID:-//Michigan Humane - ECPv6.5.1.6//NONSGML v1.0//EN
CALSCALE:GREGORIAN
METHOD:PUBLISH
X-WR-CALNAME:Michigan Humane
X-ORIGINAL-URL:https://www.michiganhumane.org
X-WR-CALDESC:Events for Michigan Humane
REFRESH-INTERVAL;VALUE=DURATION:PT1H
X-Robots-Tag:noindex
X-PUBLISHED-TTL:PT1H
BEGIN:VTIMEZONE
TZID:America/Halifax
BEGIN:DAYLIGHT
TZOFFSETFROM:-0400
TZOFFSETTO:-0300
TZNAME:ADT
DTSTART:20240310T060000
END:DAYLIGHT
BEGIN:STANDARD
TZOFFSETFROM:-0300
TZOFFSETTO:-0400
TZNAME:AST
DTSTART:20241103T050000
END:STANDARD
END:VTIMEZONE
BEGIN:VEVENT
DTSTART;TZID=America/Halifax:20240608T160000
DTEND;TZID=America/Halifax:20240608T190000
DTSTAMP:20260419T225030
CREATED:20240501T132944Z
LAST-MODIFIED:20240501T134707Z
UID:45783-1717862400-1717873200@www.michiganhumane.org
SUMMARY:K9s at Keyworth
DESCRIPTION:On June 8th\, both you and your pet are invited to watch the Detroit City Football Club Women take on AFC Ann Arbor at Keyworth Stadium. Not only do you two get to catch a great game\, but you also get access to a designated pet area and a dog bandana presented by Strategic Staffing Solutions. Make sure your pet looks their best because there’s a dog beauty pageant at halftime! \nProof of up-to-date vaccines for your dog is required upon entry. Tickets include admission for one person and one dog. A portion of the ticket sales from this game will go to Michigan Humane. Tickets are on sale soon.
URL:https://www.michiganhumane.org/event/k9s-at-keyworth/
LOCATION:Keyworth Stadium\, 3201 Roosevelt St\, Hamtramck\, Michigan\, 48212
ATTACH;FMTTYPE=image/jpeg:https://www.michiganhumane.org/wp-content/uploads/2024/05/DCFC-set-1-0241-scaled.jpg
END:VEVENT
BEGIN:VEVENT
DTSTART;TZID=America/Halifax:20240622T100000
DTEND;TZID=America/Halifax:20240622T150000
DTSTAMP:20260419T225030
CREATED:20240610T171418Z
LAST-MODIFIED:20240618T154026Z
UID:45925-1719050400-1719068400@www.michiganhumane.org
SUMMARY:CANCELED: Palmer Park Low-Cost Vaccine Clinic
DESCRIPTION:Because of the dangerously hot weather forecasted for this weekend\, the Palmer Park Low-Cost Vaccine Clinic at the Doggie Health & Wellness Fair event has been canceled. We encourage clients to call the call center or go to michiganhumane.org to find other shot clinics. We hope to announce soon a rescheduled date for this fall.
URL:https://www.michiganhumane.org/event/palmer-park-low-cost-vaccine-clinic/
LOCATION:Palmer Park\, 910 Merrill Plaisance St\, Detroit\, Michigan\, 48203
CATEGORIES:OneHealth
ATTACH;FMTTYPE=image/jpeg:https://www.michiganhumane.org/wp-content/uploads/2024/06/Palmer-Park-Shot-Clinic-Digital-10_Page_1.jpg
END:VEVENT
END:VCALENDAR