BEGIN:VCALENDAR
VERSION:2.0
PRODID:-//Michigan Humane - ECPv6.5.1.6//NONSGML v1.0//EN
CALSCALE:GREGORIAN
METHOD:PUBLISH
X-ORIGINAL-URL:https://www.michiganhumane.org
X-WR-CALDESC:Events for Michigan Humane
REFRESH-INTERVAL;VALUE=DURATION:PT1H
X-Robots-Tag:noindex
X-PUBLISHED-TTL:PT1H
BEGIN:VTIMEZONE
TZID:America/Halifax
BEGIN:DAYLIGHT
TZOFFSETFROM:-0400
TZOFFSETTO:-0300
TZNAME:ADT
DTSTART:20250309T060000
END:DAYLIGHT
BEGIN:STANDARD
TZOFFSETFROM:-0300
TZOFFSETTO:-0400
TZNAME:AST
DTSTART:20251102T050000
END:STANDARD
END:VTIMEZONE
BEGIN:VEVENT
DTSTART;VALUE=DATE:20250313
DTEND;VALUE=DATE:20250314
DTSTAMP:20260419T112326
CREATED:20250306T141746Z
LAST-MODIFIED:20250306T141746Z
UID:47293-1741824000-1741910399@www.michiganhumane.org
SUMMARY:Day of Giving 2025
DESCRIPTION:Purina’s $70k matching gift means your donation to the Critical Care Fund is DOUBLED. Make TWICE the impact for every dollar you give. \nThe need for emergency veterinary services has never been greater. Make a gift to replenish the Critical Care Fund today and your donation will be DOUBLED for TWICE the lifesaving care in 2025.
URL:https://www.michiganhumane.org/event/day-of-giving-2025/
CATEGORIES:Fundraiser,Telethon
ATTACH;FMTTYPE=image/jpeg:https://www.michiganhumane.org/wp-content/uploads/2025/03/DoG-Website-Slider-1-scaled.jpg
END:VEVENT
END:VCALENDAR